BEGIN:VCALENDAR
VERSION:2.0
PRODID:-//Karryon - ECPv6.15.18//NONSGML v1.0//EN
CALSCALE:GREGORIAN
METHOD:PUBLISH
X-WR-CALNAME:Karryon
X-ORIGINAL-URL:https://karryon.com.au
X-WR-CALDESC:Events for Karryon
REFRESH-INTERVAL;VALUE=DURATION:PT1H
X-Robots-Tag:noindex
X-PUBLISHED-TTL:PT1H
BEGIN:VTIMEZONE
TZID:Australia/Brisbane
BEGIN:STANDARD
TZOFFSETFROM:+1000
TZOFFSETTO:+1000
TZNAME:AEST
DTSTART:20250101T000000
END:STANDARD
END:VTIMEZONE
BEGIN:VEVENT
DTSTART;TZID=Australia/Brisbane:20260527T180000
DTEND;TZID=Australia/Brisbane:20260527T210000
DTSTAMP:20260423T063349
CREATED:20251211T050011Z
LAST-MODIFIED:20260108T231343Z
UID:10003081-1779904800-1779915600@karryon.com.au
SUMMARY:Save the Date Viking Gold Coast Event
DESCRIPTION:Save the Date Viking Gold Coast Trade Event
URL:https://karryon.com.au/event/save-the-date-viking-gold-coast-event/
LOCATION:TBA\, TBA\, Australia
ATTACH;FMTTYPE=image/jpeg:https://karryon.com.au/wp-content/uploads/2025/08/Event-calendar-thumbnail.jpg
ORGANIZER;CN="Helen":MAILTO:helen.mezzen@viking.com
GEO:-25.274398;133.775136
X-APPLE-STRUCTURED-LOCATION;VALUE=URI;X-ADDRESS=TBA TBA Australia;X-APPLE-RADIUS=500;X-TITLE=TBA:geo:133.775136,-25.274398
END:VEVENT
END:VCALENDAR