BEGIN:VCALENDAR
VERSION:2.0
PRODID:-//Karryon - ECPv6.15.18//NONSGML v1.0//EN
CALSCALE:GREGORIAN
METHOD:PUBLISH
X-WR-CALNAME:Karryon
X-ORIGINAL-URL:https://karryon.com.au
X-WR-CALDESC:Events for Karryon
REFRESH-INTERVAL;VALUE=DURATION:PT1H
X-Robots-Tag:noindex
X-PUBLISHED-TTL:PT1H
BEGIN:VTIMEZONE
TZID:Australia/Sydney
BEGIN:STANDARD
TZOFFSETFROM:+1100
TZOFFSETTO:+1000
TZNAME:AEST
DTSTART:20230401T160000
END:STANDARD
BEGIN:DAYLIGHT
TZOFFSETFROM:+1000
TZOFFSETTO:+1100
TZNAME:AEDT
DTSTART:20230930T160000
END:DAYLIGHT
BEGIN:STANDARD
TZOFFSETFROM:+1100
TZOFFSETTO:+1000
TZNAME:AEST
DTSTART:20240406T160000
END:STANDARD
BEGIN:DAYLIGHT
TZOFFSETFROM:+1000
TZOFFSETTO:+1100
TZNAME:AEDT
DTSTART:20241005T160000
END:DAYLIGHT
BEGIN:STANDARD
TZOFFSETFROM:+1100
TZOFFSETTO:+1000
TZNAME:AEST
DTSTART:20250405T160000
END:STANDARD
BEGIN:DAYLIGHT
TZOFFSETFROM:+1000
TZOFFSETTO:+1100
TZNAME:AEDT
DTSTART:20251004T160000
END:DAYLIGHT
END:VTIMEZONE
BEGIN:VEVENT
DTSTART;TZID=Australia/Sydney:20240514T180000
DTEND;TZID=Australia/Sydney:20240514T180000
DTSTAMP:20260420T230924
CREATED:20240228T003453Z
LAST-MODIFIED:20240228T003453Z
UID:10001491-1715709600-1715709600@karryon.com.au
SUMMARY:Ama Waterways
DESCRIPTION:For Travel Advisors to hear directly from one of our co-owners\, Gary Murphy all about Ama Waterways
URL:https://karryon.com.au/event/ama-waterways-3/
LOCATION:Sydney\, Sydney\, Brisbane\, QLD\, 2000\, Australia
ATTACH;FMTTYPE=image/jpeg:https://karryon.com.au/wp-content/uploads/2024/02/Ama-logo-gold-1.jpg
ORGANIZER;CN="Kylie Chapman":MAILTO:kyliechapman@amawaterways.com
GEO:-33.8688197;151.2092955
X-APPLE-STRUCTURED-LOCATION;VALUE=URI;X-ADDRESS=Sydney Sydney Brisbane QLD 2000 Australia;X-APPLE-RADIUS=500;X-TITLE=Sydney:geo:151.2092955,-33.8688197
END:VEVENT
END:VCALENDAR