BEGIN:VCALENDAR
VERSION:2.0
PRODID:-//Karryon - ECPv6.15.18//NONSGML v1.0//EN
CALSCALE:GREGORIAN
METHOD:PUBLISH
X-WR-CALNAME:Karryon
X-ORIGINAL-URL:https://karryon.com.au
X-WR-CALDESC:Events for Karryon
REFRESH-INTERVAL;VALUE=DURATION:PT1H
X-Robots-Tag:noindex
X-PUBLISHED-TTL:PT1H
BEGIN:VTIMEZONE
TZID:Australia/Sydney
BEGIN:STANDARD
TZOFFSETFROM:+1100
TZOFFSETTO:+1000
TZNAME:AEST
DTSTART:20220402T160000
END:STANDARD
BEGIN:DAYLIGHT
TZOFFSETFROM:+1000
TZOFFSETTO:+1100
TZNAME:AEDT
DTSTART:20221001T160000
END:DAYLIGHT
BEGIN:STANDARD
TZOFFSETFROM:+1100
TZOFFSETTO:+1000
TZNAME:AEST
DTSTART:20230401T160000
END:STANDARD
BEGIN:DAYLIGHT
TZOFFSETFROM:+1000
TZOFFSETTO:+1100
TZNAME:AEDT
DTSTART:20230930T160000
END:DAYLIGHT
BEGIN:STANDARD
TZOFFSETFROM:+1100
TZOFFSETTO:+1000
TZNAME:AEST
DTSTART:20240406T160000
END:STANDARD
BEGIN:DAYLIGHT
TZOFFSETFROM:+1000
TZOFFSETTO:+1100
TZNAME:AEDT
DTSTART:20241005T160000
END:DAYLIGHT
END:VTIMEZONE
BEGIN:VEVENT
DTSTART;TZID=Australia/Sydney:20230821T180000
DTEND;TZID=Australia/Sydney:20230821T210000
DTSTAMP:20260420T185739
CREATED:20230807T021200Z
LAST-MODIFIED:20230807T022446Z
UID:10001571-1692640800-1692651600@karryon.com.au
SUMMARY:Destination Gold Coast Roadshow - Brisbane CBD
DESCRIPTION:Destination Gold Coast\, and several Accommodation\, Theme Park\, Attraction\, Experience and Tour Partners are coming to Brisbane\, Sydney\, and Melbourne this month\, and you’re invited! \nThe Destination Gold Coast Domestic Roadshow will provide trade partners the chance to hear updates from the Destination Gold Coast team\, along with many of our Gold Coast partners.  And this year\, we’ll be championing Accessible Tourism!  It’s also a great way to hear about the over $1Billion in tourism infrastructure the Gold Coast has deployed over the past few years\, and I’m sure you’ll be blown away by just how many new and classic experiences the region has to offer. \nIn addition to having the chance to meet with and engage with the Destination Gold Coast team and our members\, a plated dinner will be served\, along with the opportunity to win plenty of INCREDIBLE prizes. \nSpots are very limited\, so please register your interest to attend via the relevant link above ASAP.  A follow up email will be sent approximately 10 days prior to the event to confirm your registration.\nIn addition to having the chance to meet with and engage with the Destination Gold Coast team and our members\, a plated dinner will be served\, along with the opportunity to win plenty of INCREDIBLE prizes. \nSpots are very limited\, so please register your interest to attend via the relevant link below.  A follow up email will be sent approximately 10 days prior to the event to confirm your registration.
URL:https://karryon.com.au/event/destination-gold-coast-brisbane-cbd/
LOCATION:Hilton Brisbane\, 190 Elizabeth St\, Brisbane City\, QLD\, 4000\, Australia
CATEGORIES:Agent,Agent training
ATTACH;FMTTYPE=image/jpeg:https://karryon.com.au/wp-content/uploads/2023/08/Burleigh-Pavillion-scaled.jpg
ORGANIZER;CN="Michael Cassis":MAILTO:michael.cassis@destinationgoldcoast.com
GEO:-27.4693886;153.0272008
X-APPLE-STRUCTURED-LOCATION;VALUE=URI;X-ADDRESS=Hilton Brisbane 190 Elizabeth St Brisbane City QLD 4000 Australia;X-APPLE-RADIUS=500;X-TITLE=190 Elizabeth St:geo:153.0272008,-27.4693886
END:VEVENT
END:VCALENDAR