BEGIN:VCALENDAR
VERSION:2.0
PRODID:-//Karryon - ECPv6.15.18//NONSGML v1.0//EN
CALSCALE:GREGORIAN
METHOD:PUBLISH
X-WR-CALNAME:Karryon
X-ORIGINAL-URL:https://karryon.com.au
X-WR-CALDESC:Events for Karryon
REFRESH-INTERVAL;VALUE=DURATION:PT1H
X-Robots-Tag:noindex
X-PUBLISHED-TTL:PT1H
BEGIN:VTIMEZONE
TZID:Australia/Sydney
BEGIN:STANDARD
TZOFFSETFROM:+1100
TZOFFSETTO:+1000
TZNAME:AEST
DTSTART:20220402T160000
END:STANDARD
BEGIN:DAYLIGHT
TZOFFSETFROM:+1000
TZOFFSETTO:+1100
TZNAME:AEDT
DTSTART:20221001T160000
END:DAYLIGHT
BEGIN:STANDARD
TZOFFSETFROM:+1100
TZOFFSETTO:+1000
TZNAME:AEST
DTSTART:20230401T160000
END:STANDARD
BEGIN:DAYLIGHT
TZOFFSETFROM:+1000
TZOFFSETTO:+1100
TZNAME:AEDT
DTSTART:20230930T160000
END:DAYLIGHT
BEGIN:STANDARD
TZOFFSETFROM:+1100
TZOFFSETTO:+1000
TZNAME:AEST
DTSTART:20240406T160000
END:STANDARD
BEGIN:DAYLIGHT
TZOFFSETFROM:+1000
TZOFFSETTO:+1100
TZNAME:AEDT
DTSTART:20241005T160000
END:DAYLIGHT
END:VTIMEZONE
BEGIN:VEVENT
DTSTART;TZID=Australia/Sydney:20230220T170000
DTEND;TZID=Australia/Sydney:20230220T210000
DTSTAMP:20260423T012813
CREATED:20221206T233205Z
LAST-MODIFIED:20230130T224629Z
UID:10000891-1676912400-1676926800@karryon.com.au
SUMMARY:Tourism Ireland B2B roadshow Auckland
DESCRIPTION:Get ready to go green early in 2023. In the month before St Patrick’s Day\, Tourism Ireland will hit the pavement in Australia and New Zealand for its B2B roadshow. \nThe four-city trade mission will kick off in Brisbane on 13 February\, before moving on to Sydney (14 February)\, Melbourne (16 February) and Auckland (20 February). \nFeaturing up to 15 tourism companies\, the roadshow will give travel advisors the chance to learn about the latest products and updates from the Emerald Isle. \nVisit www.tourismireland.com for more information or read more on Karryon here.
URL:https://karryon.com.au/event/tourism-ireland-b2b-roadshow-auckland/
CATEGORIES:Agent training
ATTACH;FMTTYPE=image/png:https://karryon.com.au/wp-content/uploads/2022/12/TIreland1000.png
END:VEVENT
BEGIN:VEVENT
DTSTART;TZID=Australia/Sydney:20230216T170000
DTEND;TZID=Australia/Sydney:20230216T210000
DTSTAMP:20260423T012813
CREATED:20221206T233028Z
LAST-MODIFIED:20230130T224614Z
UID:10000889-1676566800-1676581200@karryon.com.au
SUMMARY:Tourism Ireland B2B roadshow Melbourne
DESCRIPTION:Get ready to go green early in 2023. In the month before St Patrick’s Day\, Tourism Ireland will hit the pavement in Australia and New Zealand for its B2B roadshow. \nThe four-city trade mission will kick off in Brisbane on 13 February\, before moving on to Sydney (14 February)\, Melbourne (16 February) and Auckland (20 February). \nFeaturing up to 15 tourism companies\, the roadshow will give travel advisors the chance to learn about the latest products and updates from the Emerald Isle. \nVisit www.tourismireland.com for more information or read more on Karryon here.
URL:https://karryon.com.au/event/tourism-ireland-b2b-roadshow-melbourne/
CATEGORIES:Agent training
ATTACH;FMTTYPE=image/png:https://karryon.com.au/wp-content/uploads/2022/12/TIreland1000.png
END:VEVENT
BEGIN:VEVENT
DTSTART;TZID=Australia/Sydney:20230214T170000
DTEND;TZID=Australia/Sydney:20230214T210000
DTSTAMP:20260423T012813
CREATED:20221206T232831Z
LAST-MODIFIED:20230130T224602Z
UID:10000887-1676394000-1676408400@karryon.com.au
SUMMARY:Tourism Ireland B2B roadshow Sydney
DESCRIPTION:Get ready to go green early in 2023. In the month before St Patrick’s Day\, Tourism Ireland will hit the pavement in Australia and New Zealand for its B2B roadshow. \nThe four-city trade mission will kick off in Brisbane on 13 February\, before moving on to Sydney (14 February)\, Melbourne (16 February) and Auckland (20 February). \nFeaturing up to 15 tourism companies\, the roadshow will give travel advisors the chance to learn about the latest products and updates from the Emerald Isle. \nVisit www.tourismireland.com for more information or read more on Karryon here.
URL:https://karryon.com.au/event/tourism-ireland-b2b-roadshow-sydney/
CATEGORIES:Agent training
ATTACH;FMTTYPE=image/png:https://karryon.com.au/wp-content/uploads/2022/12/TIreland1000.png
END:VEVENT
BEGIN:VEVENT
DTSTART;TZID=Australia/Sydney:20230213T170000
DTEND;TZID=Australia/Sydney:20230213T210000
DTSTAMP:20260423T012813
CREATED:20221206T232311Z
LAST-MODIFIED:20230130T224549Z
UID:10001445-1676307600-1676322000@karryon.com.au
SUMMARY:Tourism Ireland B2B roadshow Brisbane
DESCRIPTION:Get ready to go green early in 2023. In the month before St Patrick’s Day\, Tourism Ireland will hit the pavement in Australia and New Zealand for its B2B roadshow. \nThe four-city trade mission will kick off in Brisbane on 13 February\, before moving on to Sydney (14 February)\, Melbourne (16 February) and Auckland (20 February). \nFeaturing up to 15 tourism companies\, the roadshow will give travel advisors the chance to learn about the latest products and updates from the Emerald Isle. \nVisit www.tourismireland.com for more information or read more on Karryon here.
URL:https://karryon.com.au/event/tourism-ireland-reveals-b2b-roadshow-dates/
CATEGORIES:Agent training
ATTACH;FMTTYPE=image/png:https://karryon.com.au/wp-content/uploads/2022/12/TIreland1000.png
END:VEVENT
END:VCALENDAR