BEGIN:VCALENDAR
VERSION:2.0
PRODID:-//Karryon - ECPv6.15.18//NONSGML v1.0//EN
CALSCALE:GREGORIAN
METHOD:PUBLISH
X-WR-CALNAME:Karryon
X-ORIGINAL-URL:https://karryon.com.au
X-WR-CALDESC:Events for Karryon
REFRESH-INTERVAL;VALUE=DURATION:PT1H
X-Robots-Tag:noindex
X-PUBLISHED-TTL:PT1H
BEGIN:VTIMEZONE
TZID:Australia/Sydney
BEGIN:STANDARD
TZOFFSETFROM:+1100
TZOFFSETTO:+1000
TZNAME:AEST
DTSTART:20220402T160000
END:STANDARD
BEGIN:DAYLIGHT
TZOFFSETFROM:+1000
TZOFFSETTO:+1100
TZNAME:AEDT
DTSTART:20221001T160000
END:DAYLIGHT
BEGIN:STANDARD
TZOFFSETFROM:+1100
TZOFFSETTO:+1000
TZNAME:AEST
DTSTART:20230401T160000
END:STANDARD
BEGIN:DAYLIGHT
TZOFFSETFROM:+1000
TZOFFSETTO:+1100
TZNAME:AEDT
DTSTART:20230930T160000
END:DAYLIGHT
BEGIN:STANDARD
TZOFFSETFROM:+1100
TZOFFSETTO:+1000
TZNAME:AEST
DTSTART:20240406T160000
END:STANDARD
BEGIN:DAYLIGHT
TZOFFSETFROM:+1000
TZOFFSETTO:+1100
TZNAME:AEDT
DTSTART:20241005T160000
END:DAYLIGHT
END:VTIMEZONE
BEGIN:VEVENT
DTSTART;TZID=Australia/Sydney:20230918T173000
DTEND;TZID=Australia/Sydney:20230918T210000
DTSTAMP:20260422T222133
CREATED:20230907T224257Z
LAST-MODIFIED:20230907T224257Z
UID:10001593-1695058200-1695070800@karryon.com.au
SUMMARY:TTC Tour Brands 2024 Season Launch: My Big Fat Greek Wedding 3 Sydney
DESCRIPTION:To celebrate the 2024/2025 selling season with TTC Tour Brands\, we invite you to a viewing of My Big Fat Greek Wedding 3! \nPre-drinks start at 5:30 pm followed by a 6:00 pm commencement time for the viewing and TTC Tour Brands update. Please ensure you arrive by 5:50 pm for the full event updates/screening. \nYour ticket is valid for yourself only and tickets will be checked at the door. \nThis event will include an introduction to TTC Tour Brands and a 2024/2025 selling season update. You can expect preview of our new product\, groups\, brochures and all new and exciting things Trafalgar\, Costsaver\, Insight Vacations\, Luxury Gold and Contiki have to offer. \n  \nPlease register ASAP to secure your ticket to this Launch event. \nLooking forward to seeing you all there!
URL:https://karryon.com.au/event/ttc-tour-brands-2024-season-launch-my-big-fat-greek-wedding-3-sydney/
LOCATION:Event Cinemas George Street\, 505-525 George Street\,\, Sydney\, NSW\, 2000\, Australia
ATTACH;FMTTYPE=image/jpeg:https://karryon.com.au/wp-content/uploads/2023/09/EventBrite-Banner-2160x1080-ΓCo-Positano-2.jpg
GEO:-33.8751239;151.2060487
X-APPLE-STRUCTURED-LOCATION;VALUE=URI;X-ADDRESS=Event Cinemas George Street 505-525 George Street Sydney NSW 2000 Australia;X-APPLE-RADIUS=500;X-TITLE=505-525 George Street\,:geo:151.2060487,-33.8751239
END:VEVENT
END:VCALENDAR