BEGIN:VCALENDAR
VERSION:2.0
PRODID:-//Karryon - ECPv6.15.18//NONSGML v1.0//EN
CALSCALE:GREGORIAN
METHOD:PUBLISH
X-WR-CALNAME:Karryon
X-ORIGINAL-URL:https://karryon.com.au
X-WR-CALDESC:Events for Karryon
REFRESH-INTERVAL;VALUE=DURATION:PT1H
X-Robots-Tag:noindex
X-PUBLISHED-TTL:PT1H
BEGIN:VTIMEZONE
TZID:Australia/Sydney
BEGIN:STANDARD
TZOFFSETFROM:+1100
TZOFFSETTO:+1000
TZNAME:AEST
DTSTART:20250405T160000
END:STANDARD
BEGIN:DAYLIGHT
TZOFFSETFROM:+1000
TZOFFSETTO:+1100
TZNAME:AEDT
DTSTART:20251004T160000
END:DAYLIGHT
BEGIN:STANDARD
TZOFFSETFROM:+1100
TZOFFSETTO:+1000
TZNAME:AEST
DTSTART:20260404T160000
END:STANDARD
BEGIN:DAYLIGHT
TZOFFSETFROM:+1000
TZOFFSETTO:+1100
TZNAME:AEDT
DTSTART:20261003T160000
END:DAYLIGHT
BEGIN:STANDARD
TZOFFSETFROM:+1100
TZOFFSETTO:+1000
TZNAME:AEST
DTSTART:20270403T160000
END:STANDARD
BEGIN:DAYLIGHT
TZOFFSETFROM:+1000
TZOFFSETTO:+1100
TZNAME:AEDT
DTSTART:20271002T160000
END:DAYLIGHT
END:VTIMEZONE
BEGIN:VEVENT
DTSTART;TZID=Australia/Sydney:20260204T160000
DTEND;TZID=Australia/Sydney:20260204T203000
DTSTAMP:20260425T230522
CREATED:20250220T231527Z
LAST-MODIFIED:20260108T231351Z
UID:10002830-1770220800-1770237000@karryon.com.au
SUMMARY:2026 Entire Travel Group Showcase & Soirée – Sydney
DESCRIPTION:The Travel Showcase offers an immersive and interactive experience designed to expand your knowledge of destinations and travel products. Through direct connections with suppliers and tourist boards\, obtain the tools you need to thrive in sales\, ultimately enhancing your ability to provide exceptional client recommendations. \nThe Travel Soiree promises to be an unforgettable experience\, with an immersive culinary journey\, DJs\, and inspiring keynote speakers. Moreover\, you could win incredible travel prizes! This event is not to be missed\, as it will become a highlight of the annual event calendar.
URL:https://karryon.com.au/event/2026-entire-travel-group-showcase-soiree-sydney/
LOCATION:ILUMINA\, Sydney\, 1 Elizabeth St\,\, Sydney\, NSW\, 2000\, Australia
ATTACH;FMTTYPE=image/jpeg:https://karryon.com.au/wp-content/uploads/2025/02/ETG_2026-ROADSHOW_PROPOSAL_1280x720px-1.jpg
ORGANIZER;CN="Greg McCallum":MAILTO:info@entiretravel.com.au
GEO:-33.8665081;151.2105145
X-APPLE-STRUCTURED-LOCATION;VALUE=URI;X-ADDRESS=ILUMINA Sydney 1 Elizabeth St Sydney NSW 2000 Australia;X-APPLE-RADIUS=500;X-TITLE=1 Elizabeth St\,:geo:151.2105145,-33.8665081
END:VEVENT
END:VCALENDAR