BEGIN:VCALENDAR
VERSION:2.0
PRODID:-//Karryon - ECPv6.15.18//NONSGML v1.0//EN
CALSCALE:GREGORIAN
METHOD:PUBLISH
X-WR-CALNAME:Karryon
X-ORIGINAL-URL:https://karryon.com.au
X-WR-CALDESC:Events for Karryon
REFRESH-INTERVAL;VALUE=DURATION:PT1H
X-Robots-Tag:noindex
X-PUBLISHED-TTL:PT1H
BEGIN:VTIMEZONE
TZID:Australia/Sydney
BEGIN:STANDARD
TZOFFSETFROM:+1100
TZOFFSETTO:+1000
TZNAME:AEST
DTSTART:20230401T160000
END:STANDARD
BEGIN:DAYLIGHT
TZOFFSETFROM:+1000
TZOFFSETTO:+1100
TZNAME:AEDT
DTSTART:20230930T160000
END:DAYLIGHT
BEGIN:STANDARD
TZOFFSETFROM:+1100
TZOFFSETTO:+1000
TZNAME:AEST
DTSTART:20240406T160000
END:STANDARD
BEGIN:DAYLIGHT
TZOFFSETFROM:+1000
TZOFFSETTO:+1100
TZNAME:AEDT
DTSTART:20241005T160000
END:DAYLIGHT
BEGIN:STANDARD
TZOFFSETFROM:+1100
TZOFFSETTO:+1000
TZNAME:AEST
DTSTART:20250405T160000
END:STANDARD
BEGIN:DAYLIGHT
TZOFFSETFROM:+1000
TZOFFSETTO:+1100
TZNAME:AEDT
DTSTART:20251004T160000
END:DAYLIGHT
END:VTIMEZONE
BEGIN:VEVENT
DTSTART;TZID=Australia/Sydney:20240521T180000
DTEND;TZID=Australia/Sydney:20240521T203000
DTSTAMP:20260420T220108
CREATED:20240325T011835Z
LAST-MODIFIED:20240419T020615Z
UID:10001663-1716314400-1716323400@karryon.com.au
SUMMARY:Hurtigruten New Season Showcase (Newcastle)
DESCRIPTION:Join Hurtigruten and HX (Hurtigruten Expeditions) at their joint roadshow event in Newcastle. Learn about the latest updates for both brands and discover why travelling with them is rewarding for you\, your client and the planet. \n\n\nWhen: Tuesday 21st May 2024\, 6:00pm – 8:30pm \nWhere:Newcastle Yacht Club
URL:https://karryon.com.au/event/hurtigruten-roadshow-newcastle/
LOCATION:Newcastle Yacht Club\, 95 Hannell St\, Wickham\, NSW\, 2293\, Australia
ATTACH;FMTTYPE=image/png:https://karryon.com.au/wp-content/uploads/2024/03/HR_GROUP_logo_POS_RGB-6.png
GEO:-32.9199968;151.760239
X-APPLE-STRUCTURED-LOCATION;VALUE=URI;X-ADDRESS=Newcastle Yacht Club 95 Hannell St Wickham NSW 2293 Australia;X-APPLE-RADIUS=500;X-TITLE=95 Hannell St:geo:151.760239,-32.9199968
END:VEVENT
END:VCALENDAR