BEGIN:VCALENDAR
VERSION:2.0
PRODID:-//Karryon - ECPv6.15.18//NONSGML v1.0//EN
CALSCALE:GREGORIAN
METHOD:PUBLISH
X-WR-CALNAME:Karryon
X-ORIGINAL-URL:https://karryon.com.au
X-WR-CALDESC:Events for Karryon
REFRESH-INTERVAL;VALUE=DURATION:PT1H
X-Robots-Tag:noindex
X-PUBLISHED-TTL:PT1H
BEGIN:VTIMEZONE
TZID:Australia/Sydney
BEGIN:STANDARD
TZOFFSETFROM:+1100
TZOFFSETTO:+1000
TZNAME:AEST
DTSTART:20220402T160000
END:STANDARD
BEGIN:DAYLIGHT
TZOFFSETFROM:+1000
TZOFFSETTO:+1100
TZNAME:AEDT
DTSTART:20221001T160000
END:DAYLIGHT
BEGIN:STANDARD
TZOFFSETFROM:+1100
TZOFFSETTO:+1000
TZNAME:AEST
DTSTART:20230401T160000
END:STANDARD
BEGIN:DAYLIGHT
TZOFFSETFROM:+1000
TZOFFSETTO:+1100
TZNAME:AEDT
DTSTART:20230930T160000
END:DAYLIGHT
BEGIN:STANDARD
TZOFFSETFROM:+1100
TZOFFSETTO:+1000
TZNAME:AEST
DTSTART:20240406T160000
END:STANDARD
BEGIN:DAYLIGHT
TZOFFSETFROM:+1000
TZOFFSETTO:+1100
TZNAME:AEDT
DTSTART:20241005T160000
END:DAYLIGHT
END:VTIMEZONE
BEGIN:VEVENT
DTSTART;TZID=Australia/Sydney:20231019T180000
DTEND;TZID=Australia/Sydney:20231019T203000
DTSTAMP:20260420T212300
CREATED:20230831T001628Z
LAST-MODIFIED:20230831T001628Z
UID:10001424-1697738400-1697747400@karryon.com.au
SUMMARY:Hurtigruten Roadshow Event (Brisbane)
DESCRIPTION:Celebrate 130 years of Hurtigruten Norwegian Coastal Express\, learn about Hurtigruten Group’s leading sustainability initiatives and the latest in Hurtigruten Expeditions voyages. We are for explorers\, by explorers. Discover why travelling with us is rewarding for your client and the planet. \nWhen: Thursday 19th October 2023\, 6:00pm – 8:30pm \nWhere: QAGOMA River Lounge and Pavilion Balcony\, Stanely Place\, South Brisbane
URL:https://karryon.com.au/event/hurtigruten-roadshow-event-brisbane/
LOCATION:QAGOMA\, Brisbane\, Stanley Place\, Brisbane\, QLD\, 4101\, Australia
ATTACH;FMTTYPE=image/png:https://karryon.com.au/wp-content/uploads/2023/08/HR_GROUP_logo_POS_RGB-2.png
ORGANIZER;CN="Hurtigruten":MAILTO:au.info@hurtigruten.com
GEO:-27.4713307;153.0169509
X-APPLE-STRUCTURED-LOCATION;VALUE=URI;X-ADDRESS=QAGOMA Brisbane Stanley Place Brisbane QLD 4101 Australia;X-APPLE-RADIUS=500;X-TITLE=Stanley Place:geo:153.0169509,-27.4713307
END:VEVENT
END:VCALENDAR