BEGIN:VCALENDAR
VERSION:2.0
PRODID:-//Karryon - ECPv6.15.18//NONSGML v1.0//EN
CALSCALE:GREGORIAN
METHOD:PUBLISH
X-WR-CALNAME:Karryon
X-ORIGINAL-URL:https://karryon.com.au
X-WR-CALDESC:Events for Karryon
REFRESH-INTERVAL;VALUE=DURATION:PT1H
X-Robots-Tag:noindex
X-PUBLISHED-TTL:PT1H
BEGIN:VTIMEZONE
TZID:Australia/Sydney
BEGIN:STANDARD
TZOFFSETFROM:+1100
TZOFFSETTO:+1000
TZNAME:AEST
DTSTART:20220402T160000
END:STANDARD
BEGIN:DAYLIGHT
TZOFFSETFROM:+1000
TZOFFSETTO:+1100
TZNAME:AEDT
DTSTART:20221001T160000
END:DAYLIGHT
BEGIN:STANDARD
TZOFFSETFROM:+1100
TZOFFSETTO:+1000
TZNAME:AEST
DTSTART:20230401T160000
END:STANDARD
BEGIN:DAYLIGHT
TZOFFSETFROM:+1000
TZOFFSETTO:+1100
TZNAME:AEDT
DTSTART:20230930T160000
END:DAYLIGHT
BEGIN:STANDARD
TZOFFSETFROM:+1100
TZOFFSETTO:+1000
TZNAME:AEST
DTSTART:20240406T160000
END:STANDARD
BEGIN:DAYLIGHT
TZOFFSETFROM:+1000
TZOFFSETTO:+1100
TZNAME:AEDT
DTSTART:20241005T160000
END:DAYLIGHT
END:VTIMEZONE
BEGIN:VEVENT
DTSTART;TZID=Australia/Sydney:20230817T080000
DTEND;TZID=Australia/Sydney:20230820T170000
DTSTAMP:20260420T202657
CREATED:20230130T004519Z
LAST-MODIFIED:20230801T232854Z
UID:10001506-1692259200-1692550800@karryon.com.au
SUMMARY:Express Travel Group ETGX 2023: Singapore
DESCRIPTION:Express Travel Group is excited to announce that our ETGX conference format is back for 2023 and heading to Singapore! \nInviting owners and managers from across our membership networks\, including Select Travel Group\, Independent Travel Group\, Independent Travel Advisors\, italktravel & cruise\, and Alatus\, ETGX will offer a 2-day conference program of learning\, knowledge sharing\, business updates\, panel sessions\, practical and inspirational speakers\, preferred partner engagement\, as well as networking and fun! \nETGX 2023 is heading to the amazing city of Singapore\, famous for its diversity\, culture\, iconic sites\, future-forward outlook\, and sustainability. We are excited to be immersed in this thriving city for ETGX 2023. \nWe know this destination may come as a surprise from our initial 2023 teaser announcement; however\, in the interests of delivering this event within our preferred time of year and budget\, we are confident that Singapore is the ideal destination for ETGX 2023. \nWe look forward to offering a comprehensive 3-night\, 2-Day program including; \n\nThursday 17th August – Day of Arrival\nFriday 18th August – ETGX commences\, including ETG updates\, preferred partner panels\, engaging activities and an exciting Welcome Party event\nSaturday 19th August – ETGX continues including topical industry discussions\, the preferred partner exchange\, and an inspirational keynote speaker. The evening will conclude with a celebration Gala Dinner\, including our ETGX annual awards\nSunday 20th August – Day of Departure\n\nMore details regarding sponsorship opportunities\, agenda\, and more will be released soon.
URL:https://karryon.com.au/event/express-travel-group-etgx-2023-singapore/
LOCATION:Singapore\, Singapore City\, Singapore\, Singapore\, Republic of Singapore\, Singapore
CATEGORIES:Conferences,Industry partners
ATTACH;FMTTYPE=image/jpeg:https://karryon.com.au/wp-content/uploads/2023/01/etgx2023_savethedate_slider_560x234_0-3.jpg
ORGANIZER;CN="Express Travel Group":MAILTO:Events@expresstravelgroup.com.au
GEO:1.352083;103.819836
X-APPLE-STRUCTURED-LOCATION;VALUE=URI;X-ADDRESS=Singapore Singapore City Singapore Singapore Republic of Singapore Singapore;X-APPLE-RADIUS=500;X-TITLE=Singapore City\, Singapore:geo:103.819836,1.352083
END:VEVENT
END:VCALENDAR