BEGIN:VCALENDAR
VERSION:2.0
PRODID:-//Karryon - ECPv6.15.18//NONSGML v1.0//EN
CALSCALE:GREGORIAN
METHOD:PUBLISH
X-WR-CALNAME:Karryon
X-ORIGINAL-URL:https://karryon.com.au
X-WR-CALDESC:Events for Karryon
REFRESH-INTERVAL;VALUE=DURATION:PT1H
X-Robots-Tag:noindex
X-PUBLISHED-TTL:PT1H
BEGIN:VTIMEZONE
TZID:Australia/Sydney
BEGIN:STANDARD
TZOFFSETFROM:+1100
TZOFFSETTO:+1000
TZNAME:AEST
DTSTART:20220402T160000
END:STANDARD
BEGIN:DAYLIGHT
TZOFFSETFROM:+1000
TZOFFSETTO:+1100
TZNAME:AEDT
DTSTART:20221001T160000
END:DAYLIGHT
BEGIN:STANDARD
TZOFFSETFROM:+1100
TZOFFSETTO:+1000
TZNAME:AEST
DTSTART:20230401T160000
END:STANDARD
BEGIN:DAYLIGHT
TZOFFSETFROM:+1000
TZOFFSETTO:+1100
TZNAME:AEDT
DTSTART:20230930T160000
END:DAYLIGHT
BEGIN:STANDARD
TZOFFSETFROM:+1100
TZOFFSETTO:+1000
TZNAME:AEST
DTSTART:20240406T160000
END:STANDARD
BEGIN:DAYLIGHT
TZOFFSETFROM:+1000
TZOFFSETTO:+1100
TZNAME:AEDT
DTSTART:20241005T160000
END:DAYLIGHT
END:VTIMEZONE
BEGIN:VEVENT
DTSTART;TZID=Australia/Sydney:20230920T180000
DTEND;TZID=Australia/Sydney:20230920T210000
DTSTAMP:20260421T185327
CREATED:20230908T011925Z
LAST-MODIFIED:20230908T011925Z
UID:10001600-1695232800-1695243600@karryon.com.au
SUMMARY:TTC Tour Brands 2024 Season Launch - Brunswick
DESCRIPTION:J \noin Suzy McPhail at our 2024 Season Launch and get up to speed on each brand and its tours to match them to your client’s travel wish lists. \nYou can expect preview of our new product\, groups\, brochures and all new and exciting things Trafalgar\, Costsaver\, Insight Vacations\, Luxury Gold and Contiki have to offer. \nPlease register ASAP to secure your spot to this event. \nLooking forward to seeing you all there!
URL:https://karryon.com.au/event/ttc-tour-brands-2024-season-launch-brunswick/
LOCATION:The Brewery at Welcome to Brunswick\, VIC\, 408 Sydney Road\, Brunswick\,\, VIC\, 3056\, Australia
ATTACH;FMTTYPE=image/jpeg:https://karryon.com.au/wp-content/uploads/2023/09/EventBrite-Banner-2160x1080-ΓCo-Positano-7.jpg
GEO:-37.7684338;144.9621623
X-APPLE-STRUCTURED-LOCATION;VALUE=URI;X-ADDRESS=The Brewery at Welcome to Brunswick VIC 408 Sydney Road Brunswick VIC 3056 Australia;X-APPLE-RADIUS=500;X-TITLE=408 Sydney Road:geo:144.9621623,-37.7684338
END:VEVENT
END:VCALENDAR