BEGIN:VCALENDAR
VERSION:2.0
PRODID:-//Karryon - ECPv6.15.18//NONSGML v1.0//EN
CALSCALE:GREGORIAN
METHOD:PUBLISH
X-WR-CALNAME:Karryon
X-ORIGINAL-URL:https://karryon.com.au
X-WR-CALDESC:Events for Karryon
REFRESH-INTERVAL;VALUE=DURATION:PT1H
X-Robots-Tag:noindex
X-PUBLISHED-TTL:PT1H
BEGIN:VTIMEZONE
TZID:Australia/Sydney
BEGIN:STANDARD
TZOFFSETFROM:+1100
TZOFFSETTO:+1000
TZNAME:AEST
DTSTART:20230401T160000
END:STANDARD
BEGIN:DAYLIGHT
TZOFFSETFROM:+1000
TZOFFSETTO:+1100
TZNAME:AEDT
DTSTART:20230930T160000
END:DAYLIGHT
BEGIN:STANDARD
TZOFFSETFROM:+1100
TZOFFSETTO:+1000
TZNAME:AEST
DTSTART:20240406T160000
END:STANDARD
BEGIN:DAYLIGHT
TZOFFSETFROM:+1000
TZOFFSETTO:+1100
TZNAME:AEDT
DTSTART:20241005T160000
END:DAYLIGHT
BEGIN:STANDARD
TZOFFSETFROM:+1100
TZOFFSETTO:+1000
TZNAME:AEST
DTSTART:20250405T160000
END:STANDARD
BEGIN:DAYLIGHT
TZOFFSETFROM:+1000
TZOFFSETTO:+1100
TZNAME:AEDT
DTSTART:20251004T160000
END:DAYLIGHT
END:VTIMEZONE
BEGIN:VEVENT
DTSTART;TZID=Australia/Sydney:20240513T180000
DTEND;TZID=Australia/Sydney:20240513T203000
DTSTAMP:20260420T215301
CREATED:20240325T011955Z
LAST-MODIFIED:20240419T013758Z
UID:10001668-1715623200-1715632200@karryon.com.au
SUMMARY:Hurtigruten New Season Showcase (Perth)
DESCRIPTION:Join Hurtigruten and HX (Hurtigruten Expeditions) at their joint roadshow event in Perth. Learn the latest about both brands and discover why travelling with them is rewarding for you\, your client and the planet. \nWhen: Monday May 13th 2024 | 6:00pm – 8:30pm \nWhere:The Heritage Wine Bar
URL:https://karryon.com.au/event/hurtigruten-roadshow-perth/
LOCATION:The Heritage Wine Bar\, Perth\, 131 St Georges Terrace\, Perth\, WA\, 6000\, Australia
ATTACH;FMTTYPE=image/png:https://karryon.com.au/wp-content/uploads/2024/03/HR_GROUP_logo_POS_RGB.png
ORGANIZER;CN="Hurtigruten":MAILTO:au.info@hurtigruten.com
GEO:-31.9545447;115.8552243
X-APPLE-STRUCTURED-LOCATION;VALUE=URI;X-ADDRESS=The Heritage Wine Bar Perth 131 St Georges Terrace Perth WA 6000 Australia;X-APPLE-RADIUS=500;X-TITLE=131 St Georges Terrace:geo:115.8552243,-31.9545447
END:VEVENT
END:VCALENDAR