BEGIN:VCALENDAR
VERSION:2.0
PRODID:-//Karryon - ECPv6.15.18//NONSGML v1.0//EN
CALSCALE:GREGORIAN
METHOD:PUBLISH
X-WR-CALNAME:Karryon
X-ORIGINAL-URL:https://karryon.com.au
X-WR-CALDESC:Events for Karryon
REFRESH-INTERVAL;VALUE=DURATION:PT1H
X-Robots-Tag:noindex
X-PUBLISHED-TTL:PT1H
BEGIN:VTIMEZONE
TZID:Pacific/Auckland
BEGIN:STANDARD
TZOFFSETFROM:+1300
TZOFFSETTO:+1200
TZNAME:NZST
DTSTART:20230401T140000
END:STANDARD
BEGIN:DAYLIGHT
TZOFFSETFROM:+1200
TZOFFSETTO:+1300
TZNAME:NZDT
DTSTART:20230923T140000
END:DAYLIGHT
BEGIN:STANDARD
TZOFFSETFROM:+1300
TZOFFSETTO:+1200
TZNAME:NZST
DTSTART:20240406T140000
END:STANDARD
BEGIN:DAYLIGHT
TZOFFSETFROM:+1200
TZOFFSETTO:+1300
TZNAME:NZDT
DTSTART:20240928T140000
END:DAYLIGHT
BEGIN:STANDARD
TZOFFSETFROM:+1300
TZOFFSETTO:+1200
TZNAME:NZST
DTSTART:20250405T140000
END:STANDARD
BEGIN:DAYLIGHT
TZOFFSETFROM:+1200
TZOFFSETTO:+1300
TZNAME:NZDT
DTSTART:20250927T140000
END:DAYLIGHT
END:VTIMEZONE
BEGIN:VEVENT
DTSTART;TZID=Pacific/Auckland:20240514T174500
DTEND;TZID=Pacific/Auckland:20240514T203000
DTSTAMP:20260420T214710
CREATED:20240423T022521Z
LAST-MODIFIED:20240423T022639Z
UID:10001685-1715708700-1715718600@karryon.com.au
SUMMARY:Memphis Tourism EXCLUSIVE VIP TRAVEL TRADE Event - Auckland
DESCRIPTION:Memphis Tourism invite you to their EXCLUSIVE VIP EVENT featuring the revered Hi Rhythm Section\, accompanied by renowned Memphis talents including Boo Mitchell\, Lina Beach and Jerome Chism\, bringing blues & soul to Auckland for a one-night only event on May 14th 2024. All thanks to the support from Memphis Tourism’s partners\, United Airlines\, Air New Zealand and escorted tour company Cosmos.\nYou will have the opportunity to go in the draw to win one return ticket from Auckland to Memphis with United Airlines and 3 nights’ accommodation for two staying at the iconic and historic “Peabody Memphis” + attraction passes and meals.\nWin a trip to Memphis – Agent Incentive\nAir New Zealand and United Airlines\, in partnership with Memphis Tourism are giving you the opportunity to win Economy Class flights for 2 to Memphis plus a fantastic accommodation and entertainment package. All you need to do is sell an Air New Zealand (086) or United Airlines (016) ticket to the USA between 15 April – 10 May 2024\, complete the registration form and be in to win!\nOne ticket number earns 1 point with tickets to Memphis earning 2 points. The agent with the most points wins.\nCompetition ends midnight 10 May 2024.\nTerms and conditions apply.\nWinner will be announced at the “Soul Trip” event hosted by Memphis Tourism in Auckland on Tuesday 14th May 2024 at the Lula Inn.\nVisit airnzagent.co.nz to enter and view full terms and conditions. \nRegister for the event here: https://events.humanitix.com/memphis-tourism-exclusive-vip-event-auckland
URL:https://karryon.com.au/event/memphis-tourism-exclusive-vip-travel-trade-event-auckland/
LOCATION:The Lula Inn\, Auckland\, NZ\, 149 Quay Street\, Auckland\, Auckland 1010\, New Zealand
ATTACH;FMTTYPE=image/jpeg:https://karryon.com.au/wp-content/uploads/2024/04/Mem1000-1.jpg
ORGANIZER;CN="Simran Mediratta":MAILTO:simran@karryon.com.au
GEO:-36.84219;174.7633574
X-APPLE-STRUCTURED-LOCATION;VALUE=URI;X-ADDRESS=The Lula Inn Auckland NZ 149 Quay Street Auckland Auckland 1010 New Zealand;X-APPLE-RADIUS=500;X-TITLE=149 Quay Street:geo:174.7633574,-36.84219
END:VEVENT
END:VCALENDAR