BEGIN:VCALENDAR
VERSION:2.0
PRODID:-//Karryon - ECPv6.15.18//NONSGML v1.0//EN
CALSCALE:GREGORIAN
METHOD:PUBLISH
X-WR-CALNAME:Karryon
X-ORIGINAL-URL:https://karryon.com.au
X-WR-CALDESC:Events for Karryon
REFRESH-INTERVAL;VALUE=DURATION:PT1H
X-Robots-Tag:noindex
X-PUBLISHED-TTL:PT1H
BEGIN:VTIMEZONE
TZID:Australia/Brisbane
BEGIN:STANDARD
TZOFFSETFROM:+1000
TZOFFSETTO:+1000
TZNAME:AEST
DTSTART:20220101T000000
END:STANDARD
END:VTIMEZONE
BEGIN:VEVENT
DTSTART;TZID=Australia/Brisbane:20230920T073000
DTEND;TZID=Australia/Brisbane:20230920T090000
DTSTAMP:20260420T215113
CREATED:20230908T012734Z
LAST-MODIFIED:20230908T012734Z
UID:10001602-1695195000-1695200400@karryon.com.au
SUMMARY:TTC Tour Brands 2024 Season Launch - Rockhampton
DESCRIPTION:Please join TTC Tour Brands for breakfast in Riverside Restaurant\, on the Terrace as we celebrate the upcoming 2024 selling season. \nYou can expect barista coffee\, breakfast and a sneak preview of our new product\, brochure and all new and exciting things in 2024/25 for: Trafalgar\, Costsaver\, Insight Vacations and Luxury Gold and Contiki. \nPlease register ASAP to secure your ticket to this Launch event. \nLooking forward to seeing you all there!
URL:https://karryon.com.au/event/ttc-tour-brands-2024-season-launch-rockhampton/
LOCATION:The Terrace at Riverside Restaurant\, Rockhampton\, 86 Victoria Parade\, Rockhampton\,\, QLD\, 4700\, Australia
ATTACH;FMTTYPE=image/jpeg:https://karryon.com.au/wp-content/uploads/2023/09/EventBrite-Banner-2160x1080-ΓCo-Positano-8.jpg
GEO:-23.3738754;150.5096685
X-APPLE-STRUCTURED-LOCATION;VALUE=URI;X-ADDRESS=The Terrace at Riverside Restaurant Rockhampton 86 Victoria Parade Rockhampton QLD 4700 Australia;X-APPLE-RADIUS=500;X-TITLE=86 Victoria Parade:geo:150.5096685,-23.3738754
END:VEVENT
END:VCALENDAR