BEGIN:VCALENDAR
VERSION:2.0
PRODID:-//Karryon - ECPv6.15.18//NONSGML v1.0//EN
CALSCALE:GREGORIAN
METHOD:PUBLISH
X-WR-CALNAME:Karryon
X-ORIGINAL-URL:https://karryon.com.au
X-WR-CALDESC:Events for Karryon
REFRESH-INTERVAL;VALUE=DURATION:PT1H
X-Robots-Tag:noindex
X-PUBLISHED-TTL:PT1H
BEGIN:VTIMEZONE
TZID:Australia/Sydney
BEGIN:STANDARD
TZOFFSETFROM:+1100
TZOFFSETTO:+1000
TZNAME:AEST
DTSTART:20240406T160000
END:STANDARD
BEGIN:DAYLIGHT
TZOFFSETFROM:+1000
TZOFFSETTO:+1100
TZNAME:AEDT
DTSTART:20241005T160000
END:DAYLIGHT
BEGIN:STANDARD
TZOFFSETFROM:+1100
TZOFFSETTO:+1000
TZNAME:AEST
DTSTART:20250405T160000
END:STANDARD
BEGIN:DAYLIGHT
TZOFFSETFROM:+1000
TZOFFSETTO:+1100
TZNAME:AEDT
DTSTART:20251004T160000
END:DAYLIGHT
BEGIN:STANDARD
TZOFFSETFROM:+1100
TZOFFSETTO:+1000
TZNAME:AEST
DTSTART:20260404T160000
END:STANDARD
BEGIN:DAYLIGHT
TZOFFSETFROM:+1000
TZOFFSETTO:+1100
TZNAME:AEDT
DTSTART:20261003T160000
END:DAYLIGHT
END:VTIMEZONE
BEGIN:VEVENT
DTSTART;TZID=Australia/Sydney:20250813T173000
DTEND;TZID=Australia/Sydney:20250813T204500
DTSTAMP:20260421T021224
CREATED:20250714T233104Z
LAST-MODIFIED:20250714T233547Z
UID:10002927-1755106200-1755117900@karryon.com.au
SUMMARY:Club California Events - Melbourne
DESCRIPTION:Visit California Invites Trade to “Play Your Way” Across Brisbane\, Sydney & Melbourne Travel agents\, product managers and trade pros; get ready! California is turning up the volume this August with the return of Club California\, a dynamic\, joy-filled training event. \nThis immersive roadshow is a high-energy celebration of California’s legendary diversity and free-spirited culture. Think colourful training sessions\, drag hour\ntakeover\, glitter makeovers\, big-ticket giveaways and over $30\,000 in prizes across three spectacular evenings. \nYou’ll hear the latest from California’s top travel icons — with free food and drinks\, incredible spot prizes\, and a chance to win the Ultimate California Road Trip at each city! \nRSVP now and come play your way. \nEveryone’s welcome in California.
URL:https://karryon.com.au/event/club-california-events-melbourne-2/
LOCATION:Vintage Garage\, 323 Smith St\, Fitzroy VIC 3065\, Australia
ATTACH;FMTTYPE=image/jpeg:https://karryon.com.au/wp-content/uploads/2025/07/MEL.jpg
GEO:-37.7993555;144.9837159
X-APPLE-STRUCTURED-LOCATION;VALUE=URI;X-ADDRESS=Vintage Garage 323 Smith St Fitzroy VIC 3065 Australia;X-APPLE-RADIUS=500;X-TITLE=323 Smith St\, Fitzroy VIC 3065\, Australia:geo:144.9837159,-37.7993555
END:VEVENT
END:VCALENDAR